Workbook

Sheet Products
A1: SKU | B1: Product | C1: Starting qty | D1: Total in | E1: Total out | F1: Current stock | G1: Reorder point | H1: Status | I1: Unit cost | J1: Stock value
A2: COF-12 | B2: Whole bean 12oz | C2: 100 | D2: =IF($A2="","",SUMIFS(Movements!$D:$D,Movements!$B:$B,$A2,Movements!$C:$C,"IN")) | E2: =IF($A2="","",SUMIFS(Movements!$D:$D,Movements!$B:$B,$A2,Movements!$C:$C,"OUT")) | F2: =IF($A2="","",C2+D2-E2) | G2: 60 | H2: =IF($A2="","",IF(F2<=G2,"REORDER","OK")) | I2: 6.5 | J2: =IF($A2="","",F2*I2)
A3: MUG-01 | B3: Stoneware mug | C3: 40 | D3: =IF($A3="","",SUMIFS(Movements!$D:$D,Movements!$B:$B,$A3,Movements!$C:$C,"IN")) | E3: =IF($A3="","",SUMIFS(Movements!$D:$D,Movements!$B:$B,$A3,Movements!$C:$C,"OUT")) | F3: =IF($A3="","",C3+D3-E3) | G3: 25 | H3: =IF($A3="","",IF(F3<=G3,"REORDER","OK")) | I3: 4.2 | J3: =IF($A3="","",F3*I3)
D4: =IF($A4="","",SUMIFS(Movements!$D:$D,Movements!$B:$B,$A4,Movements!$C:$C,"IN")) | E4: =IF($A4="","",SUMIFS(Movements!$D:$D,Movements!$B:$B,$A4,Movements!$C:$C,"OUT")) | F4: =IF($A4="","",C4+D4-E4) | H4: =IF($A4="","",IF(F4<=G4,"REORDER","OK")) | J4: =IF($A4="","",F4*I4)
D5: =IF($A5="","",SUMIFS(Movements!$D:$D,Movements!$B:$B,$A5,Movements!$C:$C,"IN")) | E5: =IF($A5="","",SUMIFS(Movements!$D:$D,Movements!$B:$B,$A5,Movements!$C:$C,"OUT")) | F5: =IF($A5="","",C5+D5-E5) | H5: =IF($A5="","",IF(F5<=G5,"REORDER","OK")) | J5: =IF($A5="","",F5*I5)
D6: =IF($A6="","",SUMIFS(Movements!$D:$D,Movements!$B:$B,$A6,Movements!$C:$C,"IN")) | E6: =IF($A6="","",SUMIFS(Movements!$D:$D,Movements!$B:$B,$A6,Movements!$C:$C,"OUT")) | F6: =IF($A6="","",C6+D6-E6) | H6: =IF($A6="","",IF(F6<=G6,"REORDER","OK")) | J6: =IF($A6="","",F6*I6)
D7: =IF($A7="","",SUMIFS(Movements!$D:$D,Movements!$B:$B,$A7,Movements!$C:$C,"IN")) | E7: =IF($A7="","",SUMIFS(Movements!$D:$D,Movements!$B:$B,$A7,Movements!$C:$C,"OUT")) | F7: =IF($A7="","",C7+D7-E7) | H7: =IF($A7="","",IF(F7<=G7,"REORDER","OK")) | J7: =IF($A7="","",F7*I7)
D8: =IF($A8="","",SUMIFS(Movements!$D:$D,Movements!$B:$B,$A8,Movements!$C:$C,"IN")) | E8: =IF($A8="","",SUMIFS(Movements!$D:$D,Movements!$B:$B,$A8,Movements!$C:$C,"OUT")) | F8: =IF($A8="","",C8+D8-E8) | H8: =IF($A8="","",IF(F8<=G8,"REORDER","OK")) | J8: =IF($A8="","",F8*I8)
D9: =IF($A9="","",SUMIFS(Movements!$D:$D,Movements!$B:$B,$A9,Movements!$C:$C,"IN")) | E9: =IF($A9="","",SUMIFS(Movements!$D:$D,Movements!$B:$B,$A9,Movements!$C:$C,"OUT")) | F9: =IF($A9="","",C9+D9-E9) | H9: =IF($A9="","",IF(F9<=G9,"REORDER","OK")) | J9: =IF($A9="","",F9*I9)
D10: =IF($A10="","",SUMIFS(Movements!$D:$D,Movements!$B:$B,$A10,Movements!$C:$C,"IN")) | E10: =IF($A10="","",SUMIFS(Movements!$D:$D,Movements!$B:$B,$A10,Movements!$C:$C,"OUT")) | F10: =IF($A10="","",C10+D10-E10) | H10: =IF($A10="","",IF(F10<=G10,"REORDER","OK")) | J10: =IF($A10="","",F10*I10)
D11: =IF($A11="","",SUMIFS(Movements!$D:$D,Movements!$B:$B,$A11,Movements!$C:$C,"IN")) | E11: =IF($A11="","",SUMIFS(Movements!$D:$D,Movements!$B:$B,$A11,Movements!$C:$C,"OUT")) | F11: =IF($A11="","",C11+D11-E11) | H11: =IF($A11="","",IF(F11<=G11,"REORDER","OK")) | J11: =IF($A11="","",F11*I11)
D12: =IF($A12="","",SUMIFS(Movements!$D:$D,Movements!$B:$B,$A12,Movements!$C:$C,"IN")) | E12: =IF($A12="","",SUMIFS(Movements!$D:$D,Movements!$B:$B,$A12,Movements!$C:$C,"OUT")) | F12: =IF($A12="","",C12+D12-E12) | H12: =IF($A12="","",IF(F12<=G12,"REORDER","OK")) | J12: =IF($A12="","",F12*I12)
D13: =IF($A13="","",SUMIFS(Movements!$D:$D,Movements!$B:$B,$A13,Movements!$C:$C,"IN")) | E13: =IF($A13="","",SUMIFS(Movements!$D:$D,Movements!$B:$B,$A13,Movements!$C:$C,"OUT")) | F13: =IF($A13="","",C13+D13-E13) | H13: =IF($A13="","",IF(F13<=G13,"REORDER","OK")) | J13: =IF($A13="","",F13*I13)
D14: =IF($A14="","",SUMIFS(Movements!$D:$D,Movements!$B:$B,$A14,Movements!$C:$C,"IN")) | E14: =IF($A14="","",SUMIFS(Movements!$D:$D,Movements!$B:$B,$A14,Movements!$C:$C,"OUT")) | F14: =IF($A14="","",C14+D14-E14) | H14: =IF($A14="","",IF(F14<=G14,"REORDER","OK")) | J14: =IF($A14="","",F14*I14)
D15: =IF($A15="","",SUMIFS(Movements!$D:$D,Movements!$B:$B,$A15,Movements!$C:$C,"IN")) | E15: =IF($A15="","",SUMIFS(Movements!$D:$D,Movements!$B:$B,$A15,Movements!$C:$C,"OUT")) | F15: =IF($A15="","",C15+D15-E15) | H15: =IF($A15="","",IF(F15<=G15,"REORDER","OK")) | J15: =IF($A15="","",F15*I15)
... D53: =IF($A53="","",SUMIFS(Movements!$D:$D,Movements!$B:$B,$A53,Movements!$C:$C,"IN")) | E53: =IF($A53="","",SUMIFS(Movements!$D:$D,Movements!$B:$B,$A53,Movements!$C:$C,"OUT")) | F53: =IF($A53="","",C53+D53-E53) | H53: =IF($A53="","",IF(F53<=G53,"REORDER","OK")) | J53: =IF($A53="","",F53*I53)

Sheet Movements
A1: Date | B1: SKU | C1: Type (IN or OUT) | D1: Quantity | E1: Note
A2: 2026-10-01 | B2: COF-12 | C2: IN | D2: 150 | E2: PO 1001
A3: 2026-10-02 | B3: COF-12 | C3: OUT | D3: 45 | E3: Week 1 sales
A4: 2026-10-02 | B4: MUG-01 | C4: OUT | D4: 12 | E4: Week 1 sales

Sheet About
A1: Inventory tracking spreadsheet by SteadyShelf
A3: White cells are inputs. Green cells are formulas. Delete the sample rows and add your own.
A4: Google Sheets: File > Import > Upload this file.
A6: Want this done automatically for every Shopify product? SteadyShelf forecasts, flags what to reorder and drafts purchase orders.
A7: https://steadyshelf.app/
